BEGIN:VCALENDAR
PRODID:-//kirchenweb.ch gmbh//veranstaltungsausgabe v2.0//DE
VERSION:2.0
METHOD:PUBLISH
BEGIN:VEVENT
DTSTART:20261005T120000Z
DTEND:20261005T150000Z
LOCATION:Kirchgemeindehaus\, Austrasse 7\, 8545 Rickenbach
TRANSP:OPAQUE
SEQUENCE:0
UID:21053-veranstaltung@reformiert-seuzach-thurtal.ch
DTSTAMP:20251121T090421Z
DESCRIPTION:Kontakt: Vreni Andres\, 052 337 11 94\n\nWeitere Infos:
  https://www.reformiert-seuzach-thurtal.ch/veranstaltung/21053
SUMMARY:Lismernachmittag Rickenbach
PRIORITY:5
X-MICROSOFT-CDO-IMPORTANCE:1
CLASS:PUBLIC
END:VEVENT
END:VCALENDAR
