BEGIN:VCALENDAR
PRODID:-//kirchenweb.ch gmbh//veranstaltungsausgabe v2.0//DE
VERSION:2.0
METHOD:PUBLISH
BEGIN:VEVENT
DTSTART:20261102T130000Z
DTEND:20261102T160000Z
LOCATION:Kirchgemeindehaus\, Austrasse 7\, 8545 Rickenbach
TRANSP:OPAQUE
SEQUENCE:0
UID:21055-veranstaltung@reformiert-seuzach-thurtal.ch
DTSTAMP:20251121T090555Z
DESCRIPTION:Kontakt: Vreni Andres\, 052 337 11 94\n\nWeitere Infos:
  https://www.reformiert-seuzach-thurtal.ch/veranstaltung/21055
SUMMARY:Lismernachmittag Rickenbach
PRIORITY:5
X-MICROSOFT-CDO-IMPORTANCE:1
CLASS:PUBLIC
END:VEVENT
END:VCALENDAR
