BEGIN:VCALENDAR
PRODID:-//kirchenweb.ch gmbh//veranstaltungsausgabe v2.0//DE
VERSION:2.0
METHOD:PUBLISH
BEGIN:VEVENT
DTSTART:20261103T103000Z
DTEND:20261103T113000Z
LOCATION:Restaurant Sunnezirkel\, \, 8545 Rickenbach
TRANSP:OPAQUE
SEQUENCE:0
UID:21069-veranstaltung@reformiert-seuzach-thurtal.ch
DTSTAMP:20251118T102500Z
DESCRIPTION:Team für 60 Plus Rickenbach\n\nKontakt: Rita Mock\, Tel. 052
  337 20 46\n\nWeitere Infos:
  https://www.reformiert-seuzach-thurtal.ch/veranstaltung/21069
SUMMARY:Mittagstisch Rickenbach
PRIORITY:5
X-MICROSOFT-CDO-IMPORTANCE:1
CLASS:PUBLIC
END:VEVENT
END:VCALENDAR
