BEGIN:VCALENDAR
PRODID:-//kirchenweb.ch gmbh//veranstaltungsausgabe v2.0//DE
VERSION:2.0
METHOD:PUBLISH
BEGIN:VEVENT
DTSTART:20260508T080000Z
DTEND:20260508T090000Z
LOCATION:Pfarreisaal St. Josef Sulz\, Stationsstrasse 20\, 8545 Rickenbach
  Sulz
TRANSP:OPAQUE
SEQUENCE:0
UID:21073-veranstaltung@reformiert-seuzach-thurtal.ch
DTSTAMP:20251118T095927Z
DESCRIPTION:Kontakt: Pfr. Walter Wickihalder\n\nWeitere Infos:
  https://www.reformiert-seuzach-thurtal.ch/veranstaltung/21073
SUMMARY:ökumenische Andacht\, Sulz
PRIORITY:5
X-MICROSOFT-CDO-IMPORTANCE:1
CLASS:PUBLIC
END:VEVENT
END:VCALENDAR
