BEGIN:VCALENDAR
PRODID:-//kirchenweb.ch gmbh//veranstaltungsausgabe v2.0//DE
VERSION:2.0
METHOD:PUBLISH
BEGIN:VEVENT
DTSTART:20260521T113000Z
DTEND:20260521T153000Z
LOCATION:Rickenbach\, \,  Rickenbach
TRANSP:OPAQUE
SEQUENCE:0
UID:21085-veranstaltung@reformiert-seuzach-thurtal.ch
DTSTAMP:20260416T081718Z
DESCRIPTION:Kontakt: Rita Mock\, 052 337 20 46 oder 076 317 90 37\n
 \nWeitere Infos:
  https://www.reformiert-seuzach-thurtal.ch/veranstaltung/21085
SUMMARY:Wanderung Rickenbach
PRIORITY:5
X-MICROSOFT-CDO-IMPORTANCE:1
CLASS:PUBLIC
END:VEVENT
END:VCALENDAR
