BEGIN:VCALENDAR
PRODID:-//kirchenweb.ch gmbh//veranstaltungsausgabe v2.0//DE
VERSION:2.0
METHOD:PUBLISH
BEGIN:VEVENT
DTSTART:20260528T120000Z
DTEND:20260528T130000Z
LOCATION:Kirchgemeindehaus\, Austrasse 7\, 8545 Rickenbach
TRANSP:OPAQUE
SEQUENCE:0
UID:21099-veranstaltung@reformiert-seuzach-thurtal.ch
DTSTAMP:20260219T091019Z
DESCRIPTION:Kontakt: Katri Gozzoli\, Tel. 052 337 37 12\n\nWeitere Infos:
  https://www.reformiert-seuzach-thurtal.ch/veranstaltung/21099
SUMMARY:Jass- und Spielnachmittag Rickenbach
PRIORITY:5
X-MICROSOFT-CDO-IMPORTANCE:1
CLASS:PUBLIC
END:VEVENT
END:VCALENDAR
