BEGIN:VCALENDAR
PRODID:-//kirchenweb.ch gmbh//veranstaltungsausgabe v2.0//DE
VERSION:2.0
METHOD:PUBLISH
BEGIN:VEVENT
DTSTART:20260807T070000Z
DTEND:20260807T080000Z
LOCATION:Pfarreisaal St. Josef Sulz\, Stationsstrasse 20\, 8545 Rickenbach
  Sulz
TRANSP:OPAQUE
SEQUENCE:0
UID:21118-veranstaltung@reformiert-seuzach-thurtal.ch
DTSTAMP:20251118T104717Z
DESCRIPTION:Die Seniorinnen und Senioren sind ganz herzlich zu einem
  feinen Zmorge am \nFreitag\, 7. August um 9.00 Uhr\, im Pfarreisaal Sulz
  eingeladen!\nAnschliessend können Sie noch eine Andacht in der
  katholischen Kirche besuchen.\nWir freuen uns auf Sie! (keine Anmeldung)
 \nIhr Team für 60 Plus\n\n\nKontakt: Rita Mock 052 337 20 46\n\nWeitere
  Infos: https://www.reformiert-seuzach-thurtal.ch/veranstaltung/21118
SUMMARY:Sommerzmorge Rickenbach
PRIORITY:5
X-MICROSOFT-CDO-IMPORTANCE:1
CLASS:PUBLIC
END:VEVENT
END:VCALENDAR
