BEGIN:VCALENDAR
PRODID:-//kirchenweb.ch gmbh//veranstaltungsausgabe v2.0//DE
VERSION:2.0
METHOD:PUBLISH
BEGIN:VEVENT
DTSTART:20261028T123000Z
DTEND:20261028T160000Z
LOCATION:Schütti in Rickenbach\, Hauptstrasse 9a\, 8545 Rickenbachg\,
  Altikon\, Dinhard\, Ellikon
TRANSP:OPAQUE
SEQUENCE:0
UID:21119-veranstaltung@reformiert-seuzach-thurtal.ch
DTSTAMP:20260216T065841Z
DESCRIPTION:Auch dieses Jahr findet wieder der beliebte Jassnachmittag
  statt. An verschiedenen Tischen dürfen möglichst viele Punkte gesammelt
  werden. Für jede Mitspielerin und jeden Mitspieler wartet ein schöner
  Preis als Belohnung fürs Mitmachen.\n\nKontakt: Rita Mock 052 337 20 46
 \n\nWeitere Infos:
  https://www.reformiert-seuzach-thurtal.ch/veranstaltung/21119
SUMMARY:27. Regionales Senioren-Jassen
PRIORITY:5
X-MICROSOFT-CDO-IMPORTANCE:1
CLASS:PUBLIC
END:VEVENT
END:VCALENDAR
