BEGIN:VCALENDAR
PRODID:-//kirchenweb.ch gmbh//veranstaltungsausgabe v2.0//DE
VERSION:2.0
METHOD:PUBLISH
BEGIN:VEVENT
DTSTART:20260826T171500Z
DTEND:20260826T180000Z
LOCATION:Ref. Kirche\, Austrasse 7\, 8545 Rickenbach
TRANSP:OPAQUE
SEQUENCE:0
UID:21241-veranstaltung@reformiert-seuzach-thurtal.ch
DTSTAMP:20260209T065638Z
DESCRIPTION:Kontakt: Klara Brugger\n\nWeitere Infos:
  https://www.reformiert-seuzach-thurtal.ch/veranstaltung/21241
SUMMARY:Mittwoch-Abendgebet Rickenbach
PRIORITY:5
X-MICROSOFT-CDO-IMPORTANCE:1
CLASS:PUBLIC
END:VEVENT
END:VCALENDAR
