BEGIN:VCALENDAR
PRODID:-//kirchenweb.ch gmbh//veranstaltungsausgabe v2.0//DE
VERSION:2.0
METHOD:PUBLISH
BEGIN:VEVENT
DTSTART:20260714T070000Z
DTEND:20260714T080000Z
LOCATION:Gemeindestube\, Bergstrasse 5 OG\, 8548 Ellikon a.d. Thur
TRANSP:OPAQUE
SEQUENCE:0
UID:21266-veranstaltung@reformiert-seuzach-thurtal.ch
DTSTAMP:20251127T091021Z
DESCRIPTION:Kontakt: Christa und Peter Frei-Truninger\, Bergstrasse 12\,
  8548 Ellikon an der Thur/ZH\, Tel. 078 912 51 27\n\nWeitere Infos:
  https://www.reformiert-seuzach-thurtal.ch/veranstaltung/21266
SUMMARY:Seniorenzmorgen Ellikon
PRIORITY:5
X-MICROSOFT-CDO-IMPORTANCE:1
CLASS:PUBLIC
END:VEVENT
END:VCALENDAR
