BEGIN:VCALENDAR
PRODID:-//kirchenweb.ch gmbh//veranstaltungsausgabe v2.0//DE
VERSION:2.0
METHOD:PUBLISH
BEGIN:VEVENT
DTSTART:20260924T080000Z
DTEND:20260924T090000Z
LOCATION:Pizzeria la Statione\, Stationsstr. 46\,  Seuzach
TRANSP:OPAQUE
SEQUENCE:0
UID:21321-veranstaltung@reformiert-seuzach-thurtal.ch
DTSTAMP:20251201T064931Z
DESCRIPTION:Kontakt: Priska Rauber\n\nWeitere Infos:
  https://www.reformiert-seuzach-thurtal.ch/veranstaltung/21321
SUMMARY:Plaudertisch
PRIORITY:5
X-MICROSOFT-CDO-IMPORTANCE:1
CLASS:PUBLIC
END:VEVENT
END:VCALENDAR
