BEGIN:VCALENDAR
PRODID:-//kirchenweb.ch gmbh//veranstaltungsausgabe v2.0//DE
VERSION:2.0
METHOD:PUBLISH
BEGIN:VEVENT
DTSTART:20260420T120000Z
DTEND:20260420T133000Z
LOCATION:Saal Kirchgemeindehaus Parterre\, Austrasse 7\, 8545 Rickenbach
TRANSP:OPAQUE
SEQUENCE:0
UID:21338-veranstaltung@reformiert-seuzach-thurtal.ch
DTSTAMP:20251201T065631Z
DESCRIPTION:Wir lesen gemeinsam in der Bibel und tauschen uns darüber
  aus. Im Moment lesen wir in der Offenbarung.\n\nKontakt: Priska Rauber\n
 \nWeitere Infos:
  https://www.reformiert-seuzach-thurtal.ch/veranstaltung/21338
SUMMARY:Bibelgespräch
PRIORITY:5
X-MICROSOFT-CDO-IMPORTANCE:1
CLASS:PUBLIC
END:VEVENT
END:VCALENDAR
