BEGIN:VCALENDAR
PRODID:-//kirchenweb.ch gmbh//veranstaltungsausgabe v2.0//DE
VERSION:2.0
METHOD:PUBLISH
BEGIN:VEVENT
DTSTART:20260429T063000Z
DTEND:20260429T070000Z
LOCATION:Gemeindestube UG KGH\, Stationsstr. 34\, 8472 Seuzach
TRANSP:OPAQUE
SEQUENCE:0
UID:21454-veranstaltung@reformiert-seuzach-thurtal.ch
DTSTAMP:20260302T085251Z
DESCRIPTION:Mit Stille\, Liedern\, Gebet und Texten aus der Bibel möchten
  wir gemeinsam den Tag starten.\n\nKontakt: Priska Rauber\n\nWeitere
  Infos: https://www.reformiert-seuzach-thurtal.ch/veranstaltung/21454
SUMMARY:Start in den Tag
PRIORITY:5
X-MICROSOFT-CDO-IMPORTANCE:1
CLASS:PUBLIC
END:VEVENT
END:VCALENDAR
