BEGIN:VCALENDAR
PRODID:-//kirchenweb.ch gmbh//veranstaltungsausgabe v2.0//DE
VERSION:2.0
METHOD:PUBLISH
BEGIN:VEVENT
DTSTART:20260910T120000Z
DTEND:20260910T130000Z
LOCATION:im kleinen Chrebsbachsaal\, Seuzach\, \,
TRANSP:OPAQUE
SEQUENCE:0
UID:21466-veranstaltung@reformiert-seuzach-thurtal.ch
DTSTAMP:20260108T101057Z
DESCRIPTION:Kontakt: Jürg Schneider\n\nWeitere Infos:
  https://www.reformiert-seuzach-thurtal.ch/veranstaltung/21466
SUMMARY:Seuzemer Jassnachmittag
PRIORITY:5
X-MICROSOFT-CDO-IMPORTANCE:1
CLASS:PUBLIC
END:VEVENT
END:VCALENDAR
