BEGIN:VCALENDAR
PRODID:-//kirchenweb.ch gmbh//veranstaltungsausgabe v2.0//DE
VERSION:2.0
METHOD:PUBLISH
BEGIN:VEVENT
DTSTART:20260521T120000Z
DTEND:20260521T130000Z
LOCATION:auswärts\, \,
TRANSP:OPAQUE
SEQUENCE:0
UID:21471-veranstaltung@reformiert-seuzach-thurtal.ch
DTSTAMP:20260108T101256Z
DESCRIPTION:Das Spiel ist geeignet für alle Seniorinnen und Senioren mit
  Freude an «Bewegung und Spiel». Es sind keine Vorkenntnisse nötig.
  Versicherung ist Sache der Teilnehmenden.\nWalter Wolfer führt sie in
  das Spiel ein.\n\nDer Anlass wird von der Pro Senectute Ortsvertretung
  Seuzach organisiert.\n\nKontakt: Jürg Schneider\, 052 335 10 75 oder 079
  420 70 67\n\nWeitere Infos:
  https://www.reformiert-seuzach-thurtal.ch/veranstaltung/21471
SUMMARY:Pétanque Seuzach
PRIORITY:5
X-MICROSOFT-CDO-IMPORTANCE:1
CLASS:PUBLIC
END:VEVENT
END:VCALENDAR
