BEGIN:VCALENDAR
PRODID:-//kirchenweb.ch gmbh//veranstaltungsausgabe v2.0//DE
VERSION:2.0
METHOD:PUBLISH
BEGIN:VEVENT
DTSTART:20261220T160000Z
DTEND:20261220T180000Z
LOCATION:Ref. Kirche\, Chileweg\, 8474 Dinhard
TRANSP:OPAQUE
SEQUENCE:0
UID:21496-veranstaltung@reformiert-seuzach-thurtal.ch
DTSTAMP:20260414T111538Z
DESCRIPTION:Kontakt: Pfrn. Karin Marterer Palm\n\nWeitere Infos:
  https://www.reformiert-seuzach-thurtal.ch/veranstaltung/21496
SUMMARY:Adventskonzert mit Fabio Di Casola
PRIORITY:5
X-MICROSOFT-CDO-IMPORTANCE:1
CLASS:PUBLIC
END:VEVENT
END:VCALENDAR
