BEGIN:VCALENDAR
PRODID:-//kirchenweb.ch gmbh//veranstaltungsausgabe v2.0//DE
VERSION:2.0
METHOD:PUBLISH
BEGIN:VEVENT
DTSTART:20260717T113000Z
DTEND:20260717T123000Z
LOCATION:Saal Zentrum Oberwis\, Birchstrasse 2b\, 8472 Seuzach
TRANSP:OPAQUE
SEQUENCE:0
UID:21526-veranstaltung@reformiert-seuzach-thurtal.ch
DTSTAMP:20260401T081541Z
DESCRIPTION:Familiengottesdienst für Gross und Klein aller Ortsgemeinden
  mit anschliessendem Familientag. \nThema: What a wonderful world\nOrt:
  Zentrum Oberwies \n\nKontakt: Pfrn. Karin Marterer Palm\n\nWeitere Infos:
  https://www.reformiert-seuzach-thurtal.ch/veranstaltung/21526
SUMMARY:Familiengottesdienst mit anschliessendem Familientag im Zentrum
  Oberwis in Seuzach
PRIORITY:5
X-MICROSOFT-CDO-IMPORTANCE:1
CLASS:PUBLIC
END:VEVENT
END:VCALENDAR
