BEGIN:VCALENDAR
PRODID:-//kirchenweb.ch gmbh//veranstaltungsausgabe v2.0//DE
VERSION:2.0
METHOD:PUBLISH
BEGIN:VEVENT
DTSTART:20260917T100000Z
DTEND:20260917T113000Z
LOCATION:Restaurant Geerenpark im AZig\, \,
TRANSP:OPAQUE
SEQUENCE:0
UID:21613-veranstaltung@reformiert-seuzach-thurtal.ch
DTSTAMP:20260304T112201Z
DESCRIPTION:Mitfahrgelegenheit organisiert Margrit Strässler\, 052 336 15
  60 (spätestens bis Dienstag vorher melden)\n\nKontakt:
  juergen.terdenge@ref-st.ch\n\nWeitere Infos:
  https://www.reformiert-seuzach-thurtal.ch/veranstaltung/21613
SUMMARY:Seniorenmittagstisch Dinhard im AZiG
PRIORITY:5
X-MICROSOFT-CDO-IMPORTANCE:1
CLASS:PUBLIC
END:VEVENT
END:VCALENDAR
