BEGIN:VCALENDAR
PRODID:-//kirchenweb.ch gmbh//veranstaltungsausgabe v2.0//DE
VERSION:2.0
METHOD:PUBLISH
BEGIN:VEVENT
DTSTART:20260528T100000Z
DTEND:20260528T113000Z
LOCATION:Restaurant Riedmühle\, \,
TRANSP:OPAQUE
SEQUENCE:0
UID:21617-veranstaltung@reformiert-seuzach-thurtal.ch
DTSTAMP:20260304T112000Z
DESCRIPTION:Gemütliches gemeinsames Mittagessen für alle Senioren.
 \nMitfahrgelegenheiten organisiert Margrit Strässler\, 052 336 15 60
  (spätestens bis Dienstag vorher melden)\n\nKontakt:
  juergen.terdenge@ref-st.ch\n\nWeitere Infos:
  https://www.reformiert-seuzach-thurtal.ch/veranstaltung/21617
SUMMARY:Seniorenmittagstisch Dinhard in der Riedmühle
PRIORITY:5
X-MICROSOFT-CDO-IMPORTANCE:1
CLASS:PUBLIC
END:VEVENT
END:VCALENDAR
