BEGIN:VCALENDAR
PRODID:-//kirchenweb.ch gmbh//veranstaltungsausgabe v2.0//DE
VERSION:2.0
METHOD:PUBLISH
BEGIN:VEVENT
DTSTART:20260618T100000Z
DTEND:20260618T113000Z
LOCATION:Restaurant Bahnhof Thalheim\, \,
TRANSP:OPAQUE
SEQUENCE:0
UID:21618-veranstaltung@reformiert-seuzach-thurtal.ch
DTSTAMP:20260218T105717Z
DESCRIPTION:Gemütliches gemeinsames Mittagessen für alle Senioren.
 \nMitfahrgelegenheiten organisiert Margrit Strässler\, 077 521 65 15
  (spätestens bis Dienstag vorher melden)\n\nKontakt:
  juergen.terdenge@ref-st.ch\n\nWeitere Infos:
  https://www.reformiert-seuzach-thurtal.ch/veranstaltung/21618
SUMMARY:Seniorenmittagstisch Dinhard im Bahnhof Thalheim
PRIORITY:5
X-MICROSOFT-CDO-IMPORTANCE:1
CLASS:PUBLIC
END:VEVENT
END:VCALENDAR
