BEGIN:VCALENDAR
PRODID:-//kirchenweb.ch gmbh//veranstaltungsausgabe v2.0//DE
VERSION:2.0
METHOD:PUBLISH
BEGIN:VEVENT
DTSTART:20261115T083000Z
DTEND:20261115T093000Z
LOCATION:Ref. Kirche\, Kirchhügelstrasse\, 8472 Seuzach
TRANSP:OPAQUE
SEQUENCE:0
UID:21701-veranstaltung@reformiert-seuzach-thurtal.ch
DTSTAMP:20260408T141616Z
DESCRIPTION:Chilekafi nach dem Gottesdienst \n\nKontakt: NN\n\nWeitere
  Infos: https://www.reformiert-seuzach-thurtal.ch/veranstaltung/21701
SUMMARY:Gottesdienst Seuzach
PRIORITY:5
X-MICROSOFT-CDO-IMPORTANCE:1
CLASS:PUBLIC
END:VEVENT
END:VCALENDAR
