BEGIN:VCALENDAR
PRODID:-//kirchenweb.ch gmbh//veranstaltungsausgabe v2.0//DE
VERSION:2.0
METHOD:PUBLISH
BEGIN:VEVENT
DTSTART:20261114T080000Z
DTEND:20261114T110000Z
LOCATION:Gemeindestube UG KGH\, Stationsstr. 34\, 8472 Seuzach
TRANSP:OPAQUE
SEQUENCE:0
UID:21791-veranstaltung@reformiert-seuzach-thurtal.ch
DTSTAMP:20260313T073224Z
DESCRIPTION:Kontakt: Jenny Horath\n\nWeitere Infos:
  https://www.reformiert-seuzach-thurtal.ch/veranstaltung/21791
SUMMARY:Club 4 Seuzach Gruppe B
PRIORITY:5
X-MICROSOFT-CDO-IMPORTANCE:1
CLASS:PUBLIC
END:VEVENT
END:VCALENDAR
