BEGIN:VCALENDAR
PRODID:-//kirchenweb.ch gmbh//veranstaltungsausgabe v2.0//DE
VERSION:2.0
METHOD:PUBLISH
BEGIN:VEVENT
DTSTART:20261125T103000Z
DTEND:20261125T143000Z
LOCATION:Saal Kirchgemeindehaus Parterre\, Austrasse 7\, 8545 Rickenbach
TRANSP:OPAQUE
SEQUENCE:0
UID:21805-veranstaltung@reformiert-seuzach-thurtal.ch
DTSTAMP:20260320T092625Z
DESCRIPTION:Kontakt: Esther Morf\n\nWeitere Infos:
  https://www.reformiert-seuzach-thurtal.ch/veranstaltung/21805
SUMMARY:minichile und 3. Klass-Unti Rickenbach
PRIORITY:5
X-MICROSOFT-CDO-IMPORTANCE:1
CLASS:PUBLIC
END:VEVENT
END:VCALENDAR
