BEGIN:VCALENDAR
PRODID:-//kirchenweb.ch gmbh//veranstaltungsausgabe v2.0//DE
VERSION:2.0
METHOD:PUBLISH
BEGIN:VEVENT
DTSTART:20261122T100000Z
DTEND:20261122T110000Z
LOCATION:Ref. Kirche\, Chileweg\, 8474 Dinhard
TRANSP:OPAQUE
SEQUENCE:0
UID:21902-veranstaltung@reformiert-seuzach-thurtal.ch
DTSTAMP:20260414T095508Z
DESCRIPTION:Kontakt: Pfr. Rolf Meister\n\nWeitere Infos:
  https://www.reformiert-seuzach-thurtal.ch/veranstaltung/21902
SUMMARY:Gottesdienst Dinhard zum Ewigkeitssonntag
PRIORITY:5
X-MICROSOFT-CDO-IMPORTANCE:1
CLASS:PUBLIC
END:VEVENT
END:VCALENDAR
