BEGIN:VCALENDAR
PRODID:-//kirchenweb.ch gmbh//veranstaltungsausgabe v2.0//DE
VERSION:2.0
METHOD:PUBLISH
BEGIN:VEVENT
DTSTART:20260429T113000Z
DTEND:20260429T123000Z
LOCATION:Ref. Kirche\, Kirchhügelstrasse\, 8472 Seuzach
TRANSP:OPAQUE
SEQUENCE:0
UID:21994-veranstaltung@reformiert-seuzach-thurtal.ch
DTSTAMP:20260421T085509Z
DESCRIPTION:Beerdigung nur am Grab\n\nKontakt: Pfrn. Karin Marterer Palm\n
 \nWeitere Infos:
  https://www.reformiert-seuzach-thurtal.ch/veranstaltung/21994
SUMMARY:Beerdigung Marie Luise Sommer
PRIORITY:5
X-MICROSOFT-CDO-IMPORTANCE:1
CLASS:PUBLIC
END:VEVENT
END:VCALENDAR
